BEGIN:VCALENDAR
VERSION:2.0
PRODID:-//Archaeological Institute of America - ECPv6.15.20//NONSGML v1.0//EN
CALSCALE:GREGORIAN
METHOD:PUBLISH
X-WR-CALNAME:Archaeological Institute of America
X-ORIGINAL-URL:https://www.archaeological.org
X-WR-CALDESC:Events for Archaeological Institute of America
REFRESH-INTERVAL;VALUE=DURATION:PT1H
X-Robots-Tag:noindex
X-PUBLISHED-TTL:PT1H
BEGIN:VTIMEZONE
TZID:America/Vancouver
BEGIN:DAYLIGHT
TZOFFSETFROM:-0800
TZOFFSETTO:-0700
TZNAME:PDT
DTSTART:20230312T100000
END:DAYLIGHT
BEGIN:STANDARD
TZOFFSETFROM:-0700
TZOFFSETTO:-0800
TZNAME:PST
DTSTART:20231105T090000
END:STANDARD
BEGIN:DAYLIGHT
TZOFFSETFROM:-0800
TZOFFSETTO:-0700
TZNAME:PDT
DTSTART:20240310T100000
END:DAYLIGHT
BEGIN:STANDARD
TZOFFSETFROM:-0700
TZOFFSETTO:-0800
TZNAME:PST
DTSTART:20241103T090000
END:STANDARD
BEGIN:DAYLIGHT
TZOFFSETFROM:-0800
TZOFFSETTO:-0700
TZNAME:PDT
DTSTART:20250309T100000
END:DAYLIGHT
BEGIN:STANDARD
TZOFFSETFROM:-0700
TZOFFSETTO:-0800
TZNAME:PST
DTSTART:20251102T090000
END:STANDARD
END:VTIMEZONE
BEGIN:VEVENT
DTSTART;TZID=America/Vancouver:20241024T193000
DTEND;TZID=America/Vancouver:20241024T203000
DTSTAMP:20260422T183630
CREATED:20241011T124425Z
LAST-MODIFIED:20241011T124425Z
UID:10007330-1729798200-1729801800@www.archaeological.org
SUMMARY:Far from Home: Diaspora Networks\, Religion\, and Identity Abroad on the Ancient Indian Ocean
DESCRIPTION:The George F. Bass Lectures
URL:https://www.archaeological.org/event/far-from-home-diaspora-networks-religion-and-identity-abroad-on-the-ancient-indian-ocean/
LOCATION:University of British Columbia-Vancouver Campus\, Buchanan A 102\, Main Mall\, Vancouver\, BC\, V6T 1Z1\, Canada
CATEGORIES:AIA Lecture Program
ORGANIZER;CN="Megan Daniels":MAILTO:megan.daniels@ubc.ca
GEO:49.2681544;-123.2546134
X-APPLE-STRUCTURED-LOCATION;VALUE=URI;X-ADDRESS=University of British Columbia-Vancouver Campus Buchanan A 102 Main Mall Vancouver BC V6T 1Z1 Canada;X-APPLE-RADIUS=500;X-TITLE=Main Mall:geo:-123.2546134,49.2681544
END:VEVENT
END:VCALENDAR