BEGIN:VCALENDAR
VERSION:2.0
PRODID:-//Archaeological Institute of America - ECPv6.15.20//NONSGML v1.0//EN
CALSCALE:GREGORIAN
METHOD:PUBLISH
X-WR-CALNAME:Archaeological Institute of America
X-ORIGINAL-URL:https://www.archaeological.org
X-WR-CALDESC:Events for Archaeological Institute of America
REFRESH-INTERVAL;VALUE=DURATION:PT1H
X-Robots-Tag:noindex
X-PUBLISHED-TTL:PT1H
BEGIN:VTIMEZONE
TZID:America/Chicago
BEGIN:DAYLIGHT
TZOFFSETFROM:-0600
TZOFFSETTO:-0500
TZNAME:CDT
DTSTART:20210314T080000
END:DAYLIGHT
BEGIN:STANDARD
TZOFFSETFROM:-0500
TZOFFSETTO:-0600
TZNAME:CST
DTSTART:20211107T070000
END:STANDARD
BEGIN:DAYLIGHT
TZOFFSETFROM:-0600
TZOFFSETTO:-0500
TZNAME:CDT
DTSTART:20220313T080000
END:DAYLIGHT
BEGIN:STANDARD
TZOFFSETFROM:-0500
TZOFFSETTO:-0600
TZNAME:CST
DTSTART:20221106T070000
END:STANDARD
BEGIN:DAYLIGHT
TZOFFSETFROM:-0600
TZOFFSETTO:-0500
TZNAME:CDT
DTSTART:20230312T080000
END:DAYLIGHT
BEGIN:STANDARD
TZOFFSETFROM:-0500
TZOFFSETTO:-0600
TZNAME:CST
DTSTART:20231105T070000
END:STANDARD
END:VTIMEZONE
BEGIN:VEVENT
DTSTART;TZID=America/Chicago:20221116T190000
DTEND;TZID=America/Chicago:20221116T203000
DTSTAMP:20260421T133323
CREATED:20221013T170113Z
LAST-MODIFIED:20221013T170113Z
UID:10006756-1668625200-1668630600@www.archaeological.org
SUMMARY:Dr. Steve Warren
DESCRIPTION:Dr. Steve Warren (University of Iowa) will discuss his recent research on community-engaged research and collaborations between the three federally-recognized Shawnee tribes and state archaeologists and historians to protect Hopewell mound complexes in Ohio.
URL:https://www.archaeological.org/event/dr-steve-warren/
LOCATION:University of Iowa campus (exact location TBA)\, Iowa City\, IA\, United States
CATEGORIES:Lecture
ORGANIZER;CN="Debra Trusty":MAILTO:debra-trusty@uiowa.edu
GEO:41.6611277;-91.5301683
END:VEVENT
END:VCALENDAR