BEGIN:VCALENDAR
VERSION:2.0
PRODID:-//Archaeological Institute of America - ECPv6.15.20//NONSGML v1.0//EN
CALSCALE:GREGORIAN
METHOD:PUBLISH
X-WR-CALNAME:Archaeological Institute of America
X-ORIGINAL-URL:https://www.archaeological.org
X-WR-CALDESC:Events for Archaeological Institute of America
REFRESH-INTERVAL;VALUE=DURATION:PT1H
X-Robots-Tag:noindex
X-PUBLISHED-TTL:PT1H
BEGIN:VTIMEZONE
TZID:America/Chicago
BEGIN:DAYLIGHT
TZOFFSETFROM:-0600
TZOFFSETTO:-0500
TZNAME:CDT
DTSTART:20230312T080000
END:DAYLIGHT
BEGIN:STANDARD
TZOFFSETFROM:-0500
TZOFFSETTO:-0600
TZNAME:CST
DTSTART:20231105T070000
END:STANDARD
BEGIN:DAYLIGHT
TZOFFSETFROM:-0600
TZOFFSETTO:-0500
TZNAME:CDT
DTSTART:20240310T080000
END:DAYLIGHT
BEGIN:STANDARD
TZOFFSETFROM:-0500
TZOFFSETTO:-0600
TZNAME:CST
DTSTART:20241103T070000
END:STANDARD
BEGIN:DAYLIGHT
TZOFFSETFROM:-0600
TZOFFSETTO:-0500
TZNAME:CDT
DTSTART:20250309T080000
END:DAYLIGHT
BEGIN:STANDARD
TZOFFSETFROM:-0500
TZOFFSETTO:-0600
TZNAME:CST
DTSTART:20251102T070000
END:STANDARD
END:VTIMEZONE
BEGIN:VEVENT
DTSTART;TZID=America/Chicago:20241008T180000
DTEND;TZID=America/Chicago:20241008T190000
DTSTAMP:20260422T120314
CREATED:20241001T192818Z
LAST-MODIFIED:20241001T192818Z
UID:10007254-1728410400-1728414000@www.archaeological.org
SUMMARY:The Archaic Colonnade at Corinth
DESCRIPTION:Oscar Broneer Memorial Lecture
URL:https://www.archaeological.org/event/the-archaic-colonnade-at-corinth/
LOCATION:University of Kansas\, Student Union\, Jayhawk Boulevard\, Lawrence\, KS\, 66045\, United States
CATEGORIES:AIA Lecture Program
ORGANIZER;CN="William Bruce":MAILTO:wbruce@ku.edu
GEO:38.9595782;-95.2434651
X-APPLE-STRUCTURED-LOCATION;VALUE=URI;X-ADDRESS=University of Kansas Student Union Jayhawk Boulevard Lawrence KS 66045 United States;X-APPLE-RADIUS=500;X-TITLE=Jayhawk Boulevard:geo:-95.2434651,38.9595782
END:VEVENT
END:VCALENDAR