BEGIN:VCALENDAR
VERSION:2.0
PRODID:-//Archaeological Institute of America - ECPv6.15.20//NONSGML v1.0//EN
CALSCALE:GREGORIAN
METHOD:PUBLISH
X-ORIGINAL-URL:https://www.archaeological.org
X-WR-CALDESC:Events for Archaeological Institute of America
REFRESH-INTERVAL;VALUE=DURATION:PT1H
X-Robots-Tag:noindex
X-PUBLISHED-TTL:PT1H
BEGIN:VTIMEZONE
TZID:America/New_York
BEGIN:DAYLIGHT
TZOFFSETFROM:-0500
TZOFFSETTO:-0400
TZNAME:EDT
DTSTART:20230312T070000
END:DAYLIGHT
BEGIN:STANDARD
TZOFFSETFROM:-0400
TZOFFSETTO:-0500
TZNAME:EST
DTSTART:20231105T060000
END:STANDARD
BEGIN:DAYLIGHT
TZOFFSETFROM:-0500
TZOFFSETTO:-0400
TZNAME:EDT
DTSTART:20240310T070000
END:DAYLIGHT
BEGIN:STANDARD
TZOFFSETFROM:-0400
TZOFFSETTO:-0500
TZNAME:EST
DTSTART:20241103T060000
END:STANDARD
BEGIN:DAYLIGHT
TZOFFSETFROM:-0500
TZOFFSETTO:-0400
TZNAME:EDT
DTSTART:20250309T070000
END:DAYLIGHT
BEGIN:STANDARD
TZOFFSETFROM:-0400
TZOFFSETTO:-0500
TZNAME:EST
DTSTART:20251102T060000
END:STANDARD
END:VTIMEZONE
BEGIN:VEVENT
DTSTART;TZID=America/New_York:20241026T120000
DTEND;TZID=America/New_York:20241026T150000
DTSTAMP:20260424T175821
CREATED:20240916T142843Z
LAST-MODIFIED:20241011T031602Z
UID:10007207-1729944000-1729954800@www.archaeological.org
SUMMARY:International Archaeology Day Fair
DESCRIPTION:In honor of International Archaeology Day\, please join us for an archaeology fair on Saturday\, October 26\, 12:00-3:00 pm. Visit activity tables to learn about the past: write your name in ancient scripts\, make a curse tablet\, hold replicas of ancient vases and coins\, and more! Don’t forget to browse the book sale of donated Classics and archaeology books.
URL:https://www.archaeological.org/event/international-archaeology-day-fair/
LOCATION:University of Massachusetts Amherst\, Bromery Arts Center Plaza\, Amherst\, MA\, United States
CATEGORIES:International Archaeology Day
ATTACH;FMTTYPE=image/png:https://www.archaeological.org/wp-content/uploads/2024/09/Screen-Shot-2024-10-03-at-5.32.07-PM.png
ORGANIZER;CN="Rebecca Worsham":MAILTO:rworsham@smith.edu
GEO:42.3732216;-72.5198537
END:VEVENT
END:VCALENDAR