BEGIN:VCALENDAR
VERSION:2.0
PRODID:-//Archaeological Institute of America - ECPv6.15.20//NONSGML v1.0//EN
CALSCALE:GREGORIAN
METHOD:PUBLISH
X-ORIGINAL-URL:https://www.archaeological.org
X-WR-CALDESC:Events for Archaeological Institute of America
REFRESH-INTERVAL;VALUE=DURATION:PT1H
X-Robots-Tag:noindex
X-PUBLISHED-TTL:PT1H
BEGIN:VTIMEZONE
TZID:America/New_York
BEGIN:DAYLIGHT
TZOFFSETFROM:-0500
TZOFFSETTO:-0400
TZNAME:EDT
DTSTART:20220313T070000
END:DAYLIGHT
BEGIN:STANDARD
TZOFFSETFROM:-0400
TZOFFSETTO:-0500
TZNAME:EST
DTSTART:20221106T060000
END:STANDARD
BEGIN:DAYLIGHT
TZOFFSETFROM:-0500
TZOFFSETTO:-0400
TZNAME:EDT
DTSTART:20230312T070000
END:DAYLIGHT
BEGIN:STANDARD
TZOFFSETFROM:-0400
TZOFFSETTO:-0500
TZNAME:EST
DTSTART:20231105T060000
END:STANDARD
BEGIN:DAYLIGHT
TZOFFSETFROM:-0500
TZOFFSETTO:-0400
TZNAME:EDT
DTSTART:20240310T070000
END:DAYLIGHT
BEGIN:STANDARD
TZOFFSETFROM:-0400
TZOFFSETTO:-0500
TZNAME:EST
DTSTART:20241103T060000
END:STANDARD
BEGIN:DAYLIGHT
TZOFFSETFROM:-0500
TZOFFSETTO:-0400
TZNAME:EDT
DTSTART:20250309T070000
END:DAYLIGHT
BEGIN:STANDARD
TZOFFSETFROM:-0400
TZOFFSETTO:-0500
TZNAME:EST
DTSTART:20251102T060000
END:STANDARD
BEGIN:DAYLIGHT
TZOFFSETFROM:-0500
TZOFFSETTO:-0400
TZNAME:EDT
DTSTART:20260308T070000
END:DAYLIGHT
BEGIN:STANDARD
TZOFFSETFROM:-0400
TZOFFSETTO:-0500
TZNAME:EST
DTSTART:20261101T060000
END:STANDARD
END:VTIMEZONE
BEGIN:VEVENT
DTSTART;TZID=America/New_York:20251018T120000
DTEND;TZID=America/New_York:20251018T140000
DTSTAMP:20260422T184006
CREATED:20250912T153838Z
LAST-MODIFIED:20250912T153838Z
UID:10008569-1760788800-1760796000@www.archaeological.org
SUMMARY:International Archaeology Day Fair
DESCRIPTION:Visit activity tables to learn about the past: write your name in ancient scripts\, make a Roman mosaic\, hold replicas of ancient vases and coins\, take a Minecraft tour of an ancient site\, and more!
URL:https://www.archaeological.org/event/international-archaeology-day-fair-3/
LOCATION:University of Massachusetts Amherst\, Bromery Arts Plaza\, Amherst\, MA\, 01003\, United States
CATEGORIES:International Archaeology Day
ORGANIZER;CN="Western Massachusetts Society of the AIA":MAILTO:rworsham@smith.edu
GEO:42.3732216;-72.5198537
X-APPLE-STRUCTURED-LOCATION;VALUE=URI;X-ADDRESS=University of Massachusetts Amherst Bromery Arts Plaza Amherst MA 01003 United States;X-APPLE-RADIUS=500;X-TITLE=Bromery Arts Plaza:geo:-72.5198537,42.3732216
END:VEVENT
BEGIN:VEVENT
DTSTART;TZID=America/New_York:20231014T120000
DTEND;TZID=America/New_York:20231014T150000
DTSTAMP:20260422T184006
CREATED:20230908T134832Z
LAST-MODIFIED:20230921T184601Z
UID:10006971-1697284800-1697295600@www.archaeological.org
SUMMARY:Western Massachusetts Society IAD Fair
DESCRIPTION:In honor of International Archaeology Day\, please join us for an archaeology fair on Saturday\, October 14\, 12:00-3:00 pm. Visit activity tables to learn about the past: write your name in ancient scripts\, make a curse tablet\, hold replicas of ancient vases and coins\, and more! Browse the book sale of donated Classics and archaeology books and hear about local archaeological remains at the Quabbin Reservoir.
URL:https://www.archaeological.org/event/western-massachusetts-society-iad-fair/
LOCATION:University of Massachusetts Amherst\, Bromery Arts Plaza\, Amherst\, MA\, 01003\, United States
CATEGORIES:International Archaeology Day
ATTACH;FMTTYPE=image/jpeg:https://www.archaeological.org/wp-content/uploads/2023/09/WM-IAD-Flyer-23.jpg
ORGANIZER;CN="Shannon L Hogue":MAILTO:shogue@umass.edu
GEO:42.3732216;-72.5198537
X-APPLE-STRUCTURED-LOCATION;VALUE=URI;X-ADDRESS=University of Massachusetts Amherst Bromery Arts Plaza Amherst MA 01003 United States;X-APPLE-RADIUS=500;X-TITLE=Bromery Arts Plaza:geo:-72.5198537,42.3732216
END:VEVENT
END:VCALENDAR