BEGIN:VCALENDAR
VERSION:2.0
PRODID:-//Archaeological Institute of America - ECPv6.15.20//NONSGML v1.0//EN
CALSCALE:GREGORIAN
METHOD:PUBLISH
X-ORIGINAL-URL:https://www.archaeological.org
X-WR-CALDESC:Events for Archaeological Institute of America
REFRESH-INTERVAL;VALUE=DURATION:PT1H
X-Robots-Tag:noindex
X-PUBLISHED-TTL:PT1H
BEGIN:VTIMEZONE
TZID:America/New_York
BEGIN:DAYLIGHT
TZOFFSETFROM:-0500
TZOFFSETTO:-0400
TZNAME:EDT
DTSTART:20210314T070000
END:DAYLIGHT
BEGIN:STANDARD
TZOFFSETFROM:-0400
TZOFFSETTO:-0500
TZNAME:EST
DTSTART:20211107T060000
END:STANDARD
BEGIN:DAYLIGHT
TZOFFSETFROM:-0500
TZOFFSETTO:-0400
TZNAME:EDT
DTSTART:20220313T070000
END:DAYLIGHT
BEGIN:STANDARD
TZOFFSETFROM:-0400
TZOFFSETTO:-0500
TZNAME:EST
DTSTART:20221106T060000
END:STANDARD
BEGIN:DAYLIGHT
TZOFFSETFROM:-0500
TZOFFSETTO:-0400
TZNAME:EDT
DTSTART:20230312T070000
END:DAYLIGHT
BEGIN:STANDARD
TZOFFSETFROM:-0400
TZOFFSETTO:-0500
TZNAME:EST
DTSTART:20231105T060000
END:STANDARD
END:VTIMEZONE
BEGIN:VEVENT
DTSTART;TZID=America/New_York:20220217T173000
DTEND;TZID=America/New_York:20220217T173000
DTSTAMP:20260423T183920
CREATED:20220211T140115Z
LAST-MODIFIED:20220211T140355Z
UID:10006299-1645119000-1645119000@www.archaeological.org
SUMMARY:The OPUMPA Project: Ancient Mineral Mining and Pigment Use in Stone Age Swaziland
DESCRIPTION:“The OPUMPA Project: Ancient Mineral Mining and Pigment Use in Stone Age Swaziland\,” presented by Dr. Brandi L. MacDonald (Assistant Research Professor\, The Archaeometry Laboratory at the University of Missouri Research Reactor). \nThis lecture will be held in person in Swallow Hall 101 at the University of Missouri-Columbia\, but we are also providing a zoom link to accommodate anyone who would prefer to attend remotely. \nThe lecture will begin promptly at 5:30 pm\, with an in-person reception following. This reception is open to the public. \nDate: Thursday February 17th\, 2022 \nTime: 5:30 PM (CST) \nLocation: Swallow Hall 101 \nZoom registration link (required for remote attendance): \nhttps://umsystem.zoom.us/meeting/register/tJwsf-6uqDksHNXpJ17JAswVEAGRlX4-RcQn \nAbstract: “Red mineral pigments\, known to many as “ochre”\, captured the attention of humans throughout the Middle and Late Stone Ages in Africa. These iron-rich minerals were highly valued for their pigmentaceous properties and were used to decorate cave walls with rock art\, to paint portable objects\, as a component of mortuary practices\, among many other social\, ritual\, and symbolic contexts that are still practiced today. The OPUMPA project focuses on archaeological investigations at Ngwenya\, the world’s earliest known ochre pigment mine dating to over 40 kya\, and surrounding archaeological sites that span the Middle and Late Stone ages\, through to the historic period. Using advanced methods in archaeological science\, we used geochemical analysis to reconstruct the mining and transport of ochre mineral pigments from Ngwenya and other sources across Swaziland\, in some cases over hundreds of kilometers\, suggesting the presence of long-distance social networks. This talk will review some highlights from this ongoing project\, including pigment mining landscapes and rock art across Swaziland.”
URL:https://www.archaeological.org/event/the-opumpa-project-ancient-mineral-mining-and-pigment-use-in-stone-age-swaziland/
LOCATION:University of Missouri-Columbia\, 112 Swallow Hall\, Columbia\, MO\, 65211
CATEGORIES:Lecture
ATTACH;FMTTYPE=image/jpeg:https://www.archaeological.org/wp-content/uploads/2022/02/MacDonald-AIA-February-Lecture-poster.jpg
ORGANIZER;CN="Brittany Proffitt":MAILTO:brittany.proffitt@mail.missouri.edu
GEO:38.9457152;-92.3281293
X-APPLE-STRUCTURED-LOCATION;VALUE=URI;X-ADDRESS=University of Missouri-Columbia 112 Swallow Hall Columbia MO 65211;X-APPLE-RADIUS=500;X-TITLE=112 Swallow Hall:geo:-92.3281293,38.9457152
END:VEVENT
END:VCALENDAR